BEGIN:VCALENDAR
VERSION:2.0
PRODID:-// - ECPv4.6.16//NONSGML v1.0//EN
CALSCALE:GREGORIAN
METHOD:PUBLISH
X-ORIGINAL-URL:http://www.letrognon.com/bienvillers
X-WR-CALDESC:Events for 
BEGIN:VEVENT
DTSTART;TZID=Europe/Paris:20180609T080000
DTEND;TZID=Europe/Paris:20180609T230000
DTSTAMP:20260421T212941
CREATED:20171218T162724Z
LAST-MODIFIED:20180606T134405Z
UID:1703-1528531200-1528585200@www.letrognon.com
SUMMARY:PitchCup 2018
DESCRIPTION:La PitchCup 2018 (tournoi de foot jeunes) U12 et U13 a lieu le samedi 9 juin 2018 au complexe sportif de Bienvillers au Bois. \n \n
URL:http://www.letrognon.com/bienvillers/event/pitchcup-2018/
CATEGORIES:Sport,Vie associative
END:VEVENT
END:VCALENDAR