BEGIN:VCALENDAR
VERSION:2.0
PRODID:-// - ECPv4.6.16//NONSGML v1.0//EN
CALSCALE:GREGORIAN
METHOD:PUBLISH
X-ORIGINAL-URL:http://www.letrognon.com/bienvillers
X-WR-CALDESC:Events for 
BEGIN:VEVENT
DTSTART;VALUE=DATE:20220611
DTEND;VALUE=DATE:20220613
DTSTAMP:20260421T095455
CREATED:20210910T093811Z
LAST-MODIFIED:20210910T093811Z
UID:4864-1654905600-1655078399@www.letrognon.com
SUMMARY:Pitch Cup 2022
DESCRIPTION:\nhttps://www.facebook.com/PitchCup \n
URL:http://www.letrognon.com/bienvillers/event/pitch-cup-2022/
LOCATION:1 bis rue de la Louvière\, Bienvillers-au-Bois\, 62111
CATEGORIES:Vie associative
END:VEVENT
END:VCALENDAR