BEGIN:VCALENDAR
VERSION:2.0
PRODID:-// - ECPv4.6.16//NONSGML v1.0//EN
CALSCALE:GREGORIAN
METHOD:PUBLISH
X-ORIGINAL-URL:http://www.letrognon.com/bienvillers
X-WR-CALDESC:Events for 
BEGIN:VEVENT
DTSTART;TZID=Europe/Paris:20180408T090000
DTEND;TZID=Europe/Paris:20180408T130000
DTSTAMP:20260422T093623
CREATED:20171218T161506Z
LAST-MODIFIED:20171218T161506Z
UID:1693-1523178000-1523192400@www.letrognon.com
SUMMARY:Parcours du coeur
DESCRIPTION:Le parcours du coeur a lieu le dimanche 8 avril 2018. Rendez-vous à partir de 9h sur la place du village ! \n
URL:http://www.letrognon.com/bienvillers/event/parcours-du-coeur/
CATEGORIES:Citoyenneté,Mairie
END:VEVENT
END:VCALENDAR