BEGIN:VCALENDAR
VERSION:2.0
PRODID:-// - ECPv4.6.16//NONSGML v1.0//EN
CALSCALE:GREGORIAN
METHOD:PUBLISH
X-ORIGINAL-URL:http://www.letrognon.com/bienvillers
X-WR-CALDESC:Events for 
BEGIN:VEVENT
DTSTART;TZID=Europe/Paris:20170409T090000
DTEND;TZID=Europe/Paris:20170409T130000
DTSTAMP:20260422T064938
CREATED:20170321T103215Z
LAST-MODIFIED:20170321T103215Z
UID:869-1491728400-1491742800@www.letrognon.com
SUMMARY:Parcours du coeur dimanche 9 avril 2017
DESCRIPTION:Nous vous attendons nombreux à l’occasion du parcours du coeur à Bienvillers-au-Bois le dimanche 9 avril 2017 à partir de 9h00 ! \n\n  \n
URL:http://www.letrognon.com/bienvillers/event/parcours-du-coeur-dimanche-9-avril-2017/
LOCATION:Place du 8 mai 1945\, BIENVILLERS AU BOIS\, 62 111
CATEGORIES:Citoyenneté,Mairie
ORGANIZER;CN="Mairie%20de%20Bienvillers%20au%20Bois":MAILTO:mairie@bienvillers.org
END:VEVENT
END:VCALENDAR