BEGIN:VCALENDAR
VERSION:2.0
PRODID:-// - ECPv4.6.16//NONSGML v1.0//EN
CALSCALE:GREGORIAN
METHOD:PUBLISH
X-ORIGINAL-URL:http://www.letrognon.com/bienvillers
X-WR-CALDESC:Events for 
BEGIN:VEVENT
DTSTART;TZID=Europe/Paris:20190428T090000
DTEND;TZID=Europe/Paris:20190428T123000
DTSTAMP:20260421T151532
CREATED:20190201T151903Z
LAST-MODIFIED:20190419T100135Z
UID:2989-1556442000-1556454600@www.letrognon.com
SUMMARY:Parcours du coeur
DESCRIPTION:Le parcours du coeur 2019 a lieu le dimanche 28 avril à partir de 10h00. Rendez-vous sur place du village ! \n
URL:http://www.letrognon.com/bienvillers/event/parcours-du-coeur-2/
LOCATION:Place du 8 mai 1945\, BIENVILLERS AU BOIS\, 62 111
CATEGORIES:Citoyenneté,Mairie
END:VEVENT
END:VCALENDAR