BEGIN:VCALENDAR
VERSION:2.0
PRODID:-// - ECPv4.6.16//NONSGML v1.0//EN
CALSCALE:GREGORIAN
METHOD:PUBLISH
X-ORIGINAL-URL:http://www.letrognon.com/bienvillers
X-WR-CALDESC:Events for 
BEGIN:VEVENT
DTSTART;TZID=Europe/Paris:20190324T093000
DTEND;TZID=Europe/Paris:20190324T120000
DTSTAMP:20260421T181847
CREATED:20190201T155514Z
LAST-MODIFIED:20190220T101449Z
UID:2986-1553419800-1553428800@www.letrognon.com
SUMMARY:Opération Hauts de France Propre
DESCRIPTION:L’opération Hauts de France Propre a lieu le dimanche 24 mars 2019 à Bienvillers-au-Bois. Rendez-vous à 9h30 sur la place du village ! \n \n
URL:http://www.letrognon.com/bienvillers/event/operation-hauts-de-france-propre/
LOCATION:Place du 8 mai 1945\, BIENVILLERS AU BOIS\, 62 111
CATEGORIES:Citoyenneté,Mairie
END:VEVENT
END:VCALENDAR