BEGIN:VCALENDAR
VERSION:2.0
PRODID:-// - ECPv4.6.16//NONSGML v1.0//EN
CALSCALE:GREGORIAN
METHOD:PUBLISH
X-ORIGINAL-URL:http://www.letrognon.com/bienvillers
X-WR-CALDESC:Events for 
BEGIN:VEVENT
DTSTART;TZID=Europe/Paris:20181119T093000
DTEND;TZID=Europe/Paris:20181119T113000
DTSTAMP:20260422T022034
CREATED:20181016T131442Z
LAST-MODIFIED:20181016T131535Z
UID:2614-1542619800-1542627000@www.letrognon.com
SUMMARY:Marche Nordique
DESCRIPTION:La Marche Nordique a lieu le lundi 19 novembre de 9h30 à 11h30. Rendez-vous sur le parking de la salle polyvalente rue de la Louvière. Pour tous renseignements\, contacter la Communauté de Communes des Campagnes de l’Artois  au 03.21.220.200 . \n
URL:http://www.letrognon.com/bienvillers/event/marche-nordique-3/
CATEGORIES:Communauté de Communes
ATTACH;FMTTYPE=image/jpeg:http://www.letrognon.com/bienvillers/wp-content/uploads/2017/11/logo-communauté-de-communes-campagne-artois.jpg
END:VEVENT
END:VCALENDAR