BEGIN:VCALENDAR
VERSION:2.0
PRODID:-// - ECPv4.6.16//NONSGML v1.0//EN
CALSCALE:GREGORIAN
METHOD:PUBLISH
X-ORIGINAL-URL:http://www.letrognon.com/bienvillers
X-WR-CALDESC:Events for 
BEGIN:VEVENT
DTSTART;TZID=Europe/Paris:20171210T100000
DTEND;TZID=Europe/Paris:20171210T190000
DTSTAMP:20260422T021224
CREATED:20171124T142541Z
LAST-MODIFIED:20171124T142541Z
UID:1644-1512900000-1512932400@www.letrognon.com
SUMMARY:Marché de Noël à Grand-Rullecourt
DESCRIPTION:Marché de Noël de la Communauté de Communes des Campagnes de l’Artois à Grand-Rullecourt le dimanche 10 décembre 2017 de 10h à 19h !\n\n
URL:http://www.letrognon.com/bienvillers/event/marche-de-noel-a-grand-rullecourt-2/
LOCATION:Grand-Rullecourt\, 62810\, France Métropolitaine
CATEGORIES:Communauté de Communes
ATTACH;FMTTYPE=image/jpeg:http://www.letrognon.com/bienvillers/wp-content/uploads/2017/11/logo-communauté-de-communes-campagne-artois.jpg
END:VEVENT
END:VCALENDAR