BEGIN:VCALENDAR
VERSION:2.0
PRODID:-// - ECPv4.6.16//NONSGML v1.0//EN
CALSCALE:GREGORIAN
METHOD:PUBLISH
X-ORIGINAL-URL:http://www.letrognon.com/bienvillers
X-WR-CALDESC:Events for 
BEGIN:VEVENT
DTSTART;TZID=Europe/Paris:20181201T133000
DTEND;TZID=Europe/Paris:20181201T180000
DTSTAMP:20260421T231407
CREATED:20181119T132325Z
LAST-MODIFIED:20181119T132325Z
UID:2713-1543671000-1543687200@www.letrognon.com
SUMMARY:Marche à Saint Amand
DESCRIPTION:Une marche est organisée à Saint Amand le samedi 1er décembre 2018 à l’occasion du téléthon. Venez nombreux ! \n \n
URL:http://www.letrognon.com/bienvillers/event/marche-a-saint-amand/
LOCATION:Saint Amand\, 62760
CATEGORIES:Citoyenneté,Vie associative
END:VEVENT
END:VCALENDAR