BEGIN:VCALENDAR
VERSION:2.0
PRODID:-// - ECPv4.6.16//NONSGML v1.0//EN
CALSCALE:GREGORIAN
METHOD:PUBLISH
X-ORIGINAL-URL:http://www.letrognon.com/bienvillers
X-WR-CALDESC:Events for 
BEGIN:VEVENT
DTSTART;TZID=Europe/Paris:20190406T163000
DTEND;TZID=Europe/Paris:20190406T220000
DTSTAMP:20260421T182141
CREATED:20190215T141905Z
LAST-MODIFIED:20190215T141905Z
UID:3019-1554568200-1554588000@www.letrognon.com
SUMMARY:Loto des archers réunis
DESCRIPTION:Venez nombreux au loto des archers réunis le samedi 6 avril 2019 à partir de 16h30 ! \n\n
URL:http://www.letrognon.com/bienvillers/event/loto-des-archers-reunis/
LOCATION:Place Publique\, Monchy au Bois\, 62111
CATEGORIES:Vie associative
END:VEVENT
END:VCALENDAR