BEGIN:VCALENDAR
VERSION:2.0
PRODID:-// - ECPv4.6.16//NONSGML v1.0//EN
CALSCALE:GREGORIAN
METHOD:PUBLISH
X-ORIGINAL-URL:http://www.letrognon.com/bienvillers
X-WR-CALDESC:Events for 
BEGIN:VEVENT
DTSTART;VALUE=DATE:20241005
DTEND;VALUE=DATE:20241006
DTSTAMP:20260424T161240
CREATED:20240925T150015Z
LAST-MODIFIED:20240925T150015Z
UID:8561-1728086400-1728172799@www.letrognon.com
SUMMARY:La dictée Habarcquoise
DESCRIPTION:View Fullscreen \n
URL:http://www.letrognon.com/bienvillers/event/la-dictee-habarcquoise-2/
END:VEVENT
END:VCALENDAR