BEGIN:VCALENDAR
VERSION:2.0
PRODID:-// - ECPv4.6.16//NONSGML v1.0//EN
CALSCALE:GREGORIAN
METHOD:PUBLISH
X-ORIGINAL-URL:http://www.letrognon.com/bienvillers
X-WR-CALDESC:Events for 
BEGIN:VEVENT
DTSTART;TZID=Europe/Paris:20180616T120000
DTEND;TZID=Europe/Paris:20180616T180000
DTSTAMP:20260421T181351
CREATED:20171219T162808Z
LAST-MODIFIED:20171219T163543Z
UID:1727-1529150400-1529172000@www.letrognon.com
SUMMARY:Kermesse des écoles
DESCRIPTION:La kermesse des écoles aura lieu le samedi 16 juin 2018 à partir de 12h à Humbercamps. \n
URL:http://www.letrognon.com/bienvillers/event/kermesse-ecoles/
LOCATION:62158
CATEGORIES:Scolaire
END:VEVENT
END:VCALENDAR