BEGIN:VCALENDAR
VERSION:2.0
PRODID:-// - ECPv4.6.16//NONSGML v1.0//EN
CALSCALE:GREGORIAN
METHOD:PUBLISH
X-ORIGINAL-URL:http://www.letrognon.com/bienvillers
X-WR-CALDESC:Events for 
BEGIN:VEVENT
DTSTART;TZID=Europe/Paris:20190511T190000
DTEND;TZID=Europe/Paris:20190511T235900
DTSTAMP:20260421T174904
CREATED:20190504T064739Z
LAST-MODIFIED:20190504T064739Z
UID:3201-1557601200-1557619140@www.letrognon.com
SUMMARY:Kermesse de la bière
DESCRIPTION:\n
URL:http://www.letrognon.com/bienvillers/event/kermesse-de-la-biere/
LOCATION:Place de la Mairie\, Pommier\, 62111
CATEGORIES:Vie associative
ATTACH;FMTTYPE=image/jpeg:http://www.letrognon.com/bienvillers/wp-content/uploads/2018/02/logo-sporting-club-artésien.jpg
END:VEVENT
END:VCALENDAR