BEGIN:VCALENDAR
VERSION:2.0
PRODID:-// - ECPv4.6.16//NONSGML v1.0//EN
CALSCALE:GREGORIAN
METHOD:PUBLISH
X-ORIGINAL-URL:http://www.letrognon.com/bienvillers
X-WR-CALDESC:Events for 
BEGIN:VEVENT
DTSTART;TZID=Europe/Paris:20180416T190000
DTEND;TZID=Europe/Paris:20180416T200000
DTSTAMP:20260422T084128
CREATED:20180327T091303Z
LAST-MODIFIED:20180327T091303Z
UID:1944-1523905200-1523908800@www.letrognon.com
SUMMARY:Jurys d'Assises
DESCRIPTION:La commission de préparation pour la liste des Jurys d’Assises 2019 se réunit le lundi 16 avril 2018 à 19h00 ! \n
URL:http://www.letrognon.com/bienvillers/event/jurys-dassises/
CATEGORIES:Mairie
END:VEVENT
END:VCALENDAR