BEGIN:VCALENDAR
VERSION:2.0
PRODID:-// - ECPv4.6.16//NONSGML v1.0//EN
CALSCALE:GREGORIAN
METHOD:PUBLISH
X-ORIGINAL-URL:http://www.letrognon.com/bienvillers
X-WR-CALDESC:Events for 
BEGIN:VEVENT
DTSTART;TZID=Europe/Paris:20170619T190000
DTEND;TZID=Europe/Paris:20170619T200000
DTSTAMP:20260422T021741
CREATED:20170606T083205Z
LAST-MODIFIED:20170606T083205Z
UID:1077-1497898800-1497902400@www.letrognon.com
SUMMARY:Jury d'Assises
DESCRIPTION:La réunion pour les Jury d’Assises\, en vue d’établir la liste de 2018\, a lieu ce lundi 19 juin 2017 à 19h. \n
URL:http://www.letrognon.com/bienvillers/event/jury-dassises/
CATEGORIES:Mairie
END:VEVENT
END:VCALENDAR