BEGIN:VCALENDAR
VERSION:2.0
PRODID:-// - ECPv4.6.16//NONSGML v1.0//EN
CALSCALE:GREGORIAN
METHOD:PUBLISH
X-ORIGINAL-URL:http://www.letrognon.com/bienvillers
X-WR-CALDESC:Events for 
BEGIN:VEVENT
DTSTART;TZID=Europe/Paris:20191019T100000
DTEND;TZID=Europe/Paris:20191019T170000
DTSTAMP:20260421T061658
CREATED:20191014T095713Z
LAST-MODIFIED:20191014T095713Z
UID:3617-1571479200-1571504400@www.letrognon.com
SUMMARY:Journées Nationales de l'Architecture
DESCRIPTION:\n
URL:http://www.letrognon.com/bienvillers/event/journees-nationales-de-larchitecture-2/
END:VEVENT
END:VCALENDAR