BEGIN:VCALENDAR
VERSION:2.0
PRODID:-// - ECPv4.6.16//NONSGML v1.0//EN
CALSCALE:GREGORIAN
METHOD:PUBLISH
X-ORIGINAL-URL:http://www.letrognon.com/bienvillers
X-WR-CALDESC:Events for 
BEGIN:VEVENT
DTSTART;TZID=Europe/Paris:20170318T150000
DTEND;TZID=Europe/Paris:20170318T170000
DTSTAMP:20260421T232154
CREATED:20170310T101527Z
LAST-MODIFIED:20170317T132520Z
UID:781-1489849200-1489856400@www.letrognon.com
SUMMARY:Journée de la Femme à Bienvillers au Bois
DESCRIPTION:Venez participez au “stage gratuit” le samedi 18 mars 2017 de 15h à 17h\, organisé par le club des arts martiaux vietnamiens\, à la Salle Polyvalente de Bienvillers-au-Bois rue de la Louvière ! \n\nSuivi du pot de l’amitié ! \n
URL:http://www.letrognon.com/bienvillers/event/journee-femme-bienvillers-au-bois/
LOCATION:rue de la Louvière\, BIENVILLERS AU BOIS\, Région des Hauts de France\, 62 111\, France Métropolitaine
CATEGORIES:Citoyenneté,Vie associative
ORGANIZER;CN="Club%20Viet%20Vo%20Dao":MAILTO:vietvodaovv@gmail.com
END:VEVENT
END:VCALENDAR