BEGIN:VCALENDAR
VERSION:2.0
PRODID:-// - ECPv4.6.16//NONSGML v1.0//EN
CALSCALE:GREGORIAN
METHOD:PUBLISH
X-ORIGINAL-URL:http://www.letrognon.com/bienvillers
X-WR-CALDESC:Events for 
BEGIN:VEVENT
DTSTART;TZID=Europe/Paris:20190427T100000
DTEND;TZID=Europe/Paris:20190427T120000
DTSTAMP:20260421T170733
CREATED:20190322T121549Z
LAST-MODIFIED:20190322T121549Z
UID:3096-1556359200-1556366400@www.letrognon.com
SUMMARY:Inscriptions RPI La Fontaine
DESCRIPTION:\n
URL:http://www.letrognon.com/bienvillers/event/inscriptions-rpi-la-fontaine/
LOCATION:3 rue de Pommier\, BIENVILLERS AU BOIS\, 62 111
CATEGORIES:Scolaire
END:VEVENT
END:VCALENDAR