BEGIN:VCALENDAR
VERSION:2.0
PRODID:-// - ECPv4.6.16//NONSGML v1.0//EN
CALSCALE:GREGORIAN
METHOD:PUBLISH
X-ORIGINAL-URL:http://www.letrognon.com/bienvillers
X-WR-CALDESC:Events for 
BEGIN:VEVENT
DTSTART;TZID=Europe/Paris:20180928T140000
DTEND;TZID=Europe/Paris:20180928T150000
DTSTAMP:20260422T014900
CREATED:20180926T120311Z
LAST-MODIFIED:20180926T120311Z
UID:2519-1538143200-1538146800@www.letrognon.com
SUMMARY:Inauguration de la station d'épuration
DESCRIPTION:L’inauguration de la station d’épuration\, route d’Hannescamps\, a lieu ce vendredi 28 septembre 2018 à 14h00 . \n
URL:http://www.letrognon.com/bienvillers/event/inauguration-de-la-station-depuration/
CATEGORIES:Communauté de Communes,Mairie
END:VEVENT
END:VCALENDAR