BEGIN:VCALENDAR
VERSION:2.0
PRODID:-// - ECPv4.6.16//NONSGML v1.0//EN
CALSCALE:GREGORIAN
METHOD:PUBLISH
X-ORIGINAL-URL:http://www.letrognon.com/bienvillers
X-WR-CALDESC:Events for 
BEGIN:VEVENT
DTSTART;TZID=Europe/Paris:20191221T150000
DTEND;TZID=Europe/Paris:20191221T180000
DTSTAMP:20260421T005827
CREATED:20191105T152402Z
LAST-MODIFIED:20191120T080920Z
UID:3702-1576940400-1576951200@www.letrognon.com
SUMMARY:Goûter des aînés
DESCRIPTION:Le goûter des aînés aura lieu le samedi 21 décembre de 15h à 17h30 à la salle polyvalente. A cette occasion\, le colis de fin d’année sera remis aux personnes présentes et sera apporté à celles ne pouvant pas se déplacer. Nous vous rappelons les conditions d’attribution : avoir 67 ans ou plus au 1er janvier 2019\, être inscrit sur les listes électorales et/ou résider à Bienvillers. \n
URL:http://www.letrognon.com/bienvillers/event/gouter-des-aines-3/
CATEGORIES:Mairie
END:VEVENT
END:VCALENDAR