BEGIN:VCALENDAR
VERSION:2.0
PRODID:-// - ECPv4.6.16//NONSGML v1.0//EN
CALSCALE:GREGORIAN
METHOD:PUBLISH
X-ORIGINAL-URL:http://www.letrognon.com/bienvillers
X-WR-CALDESC:Events for 
BEGIN:VEVENT
DTSTART;TZID=Europe/Paris:20181215T150000
DTEND;TZID=Europe/Paris:20181215T173000
DTSTAMP:20260421T212942
CREATED:20181006T094119Z
LAST-MODIFIED:20181119T105919Z
UID:2544-1544886000-1544895000@www.letrognon.com
SUMMARY:Goûter des aînés
DESCRIPTION:Le goûter des aînés a lieu le samedi 15 décembre 2018 à la salle polyvalente à partir de 15h00. \n
URL:http://www.letrognon.com/bienvillers/event/gouter-des-aines-2/
CATEGORIES:Mairie
END:VEVENT
END:VCALENDAR