BEGIN:VCALENDAR
VERSION:2.0
PRODID:-// - ECPv4.6.16//NONSGML v1.0//EN
CALSCALE:GREGORIAN
METHOD:PUBLISH
X-ORIGINAL-URL:http://www.letrognon.com/bienvillers
X-WR-CALDESC:Events for 
BEGIN:VEVENT
DTSTART;TZID=Europe/Paris:20180710T193000
DTEND;TZID=Europe/Paris:20180710T223000
DTSTAMP:20260421T230643
CREATED:20180707T070715Z
LAST-MODIFIED:20180707T070715Z
UID:2349-1531251000-1531261800@www.letrognon.com
SUMMARY:Football
DESCRIPTION:\n
URL:http://www.letrognon.com/bienvillers/event/football-2/
CATEGORIES:Mairie,Sport
END:VEVENT
END:VCALENDAR