BEGIN:VCALENDAR
VERSION:2.0
PRODID:-// - ECPv4.6.16//NONSGML v1.0//EN
CALSCALE:GREGORIAN
METHOD:PUBLISH
X-ORIGINAL-URL:http://www.letrognon.com/bienvillers
X-WR-CALDESC:Events for 
BEGIN:VEVENT
DTSTART;TZID=Europe/Paris:20171118T190000
DTEND;TZID=Europe/Paris:20171118T230000
DTSTAMP:20260422T034624
CREATED:20171031T144242Z
LAST-MODIFIED:20171031T144242Z
UID:1357-1511031600-1511046000@www.letrognon.com
SUMMARY:Fête du Beaujolais
DESCRIPTION:\n
URL:http://www.letrognon.com/bienvillers/event/fete-du-beaujolais/
LOCATION:rue de la Louvière\, BIENVILLERS AU BOIS\, Région des Hauts de France\, 62 111\, France Métropolitaine
CATEGORIES:Vie associative
END:VEVENT
END:VCALENDAR