BEGIN:VCALENDAR
VERSION:2.0
PRODID:-// - ECPv4.6.16//NONSGML v1.0//EN
CALSCALE:GREGORIAN
METHOD:PUBLISH
X-ORIGINAL-URL:http://www.letrognon.com/bienvillers
X-WR-CALDESC:Events for 
BEGIN:VEVENT
DTSTART;TZID=Europe/Paris:20190712T180000
DTEND;TZID=Europe/Paris:20190712T235900
DTSTAMP:20260421T111823
CREATED:20190518T073622Z
LAST-MODIFIED:20190518T073622Z
UID:3257-1562954400-1562975940@www.letrognon.com
SUMMARY:Fête Communale des Coccinelles 2019
DESCRIPTION: \n
URL:http://www.letrognon.com/bienvillers/event/fete-communale-des-coccinelles-2019/
CATEGORIES:Mairie
END:VEVENT
END:VCALENDAR