BEGIN:VCALENDAR
VERSION:2.0
PRODID:-// - ECPv4.6.16//NONSGML v1.0//EN
CALSCALE:GREGORIAN
METHOD:PUBLISH
X-ORIGINAL-URL:http://www.letrognon.com/bienvillers
X-WR-CALDESC:Events for 
BEGIN:VEVENT
DTSTART;VALUE=DATE:20170714
DTEND;VALUE=DATE:20170718
DTSTAMP:20260422T005142
CREATED:20170320T155830Z
LAST-MODIFIED:20170530T123002Z
UID:843-1499990400-1500335999@www.letrognon.com
SUMMARY:Fête Communale de Bienvillers-au-Bois
DESCRIPTION:La fête communale a lieu les 14 – 15 – 16 et 17 juillet 2017. De nombreux activités pour petits et grands et en famille\, venez nombreux ! Le programme sera disponible ultérieurement. \n
URL:http://www.letrognon.com/bienvillers/event/fete-communale-bienvillers-au-bois/
LOCATION:Place du 8 mai 1945\, BIENVILLERS AU BOIS\, 62 111
CATEGORIES:Mairie
ATTACH;FMTTYPE=image/jpeg:http://www.letrognon.com/bienvillers/wp-content/uploads/2017/05/fete-communale-bienvillersaubois-logo.jpg
ORGANIZER;CN="Mairie%20de%20Bienvillers%20au%20Bois":MAILTO:mairie@bienvillers.org
END:VEVENT
END:VCALENDAR