BEGIN:VCALENDAR
VERSION:2.0
PRODID:-// - ECPv4.6.16//NONSGML v1.0//EN
CALSCALE:GREGORIAN
METHOD:PUBLISH
X-ORIGINAL-URL:http://www.letrognon.com/bienvillers
X-WR-CALDESC:Events for 
BEGIN:VEVENT
DTSTART;TZID=Europe/Paris:20180713T180000
DTEND;TZID=Europe/Paris:20180713T235500
DTSTAMP:20260422T004607
CREATED:20180512T075942Z
LAST-MODIFIED:20180512T075942Z
UID:2117-1531504800-1531526100@www.letrognon.com
SUMMARY:Fête Communale 2018 - Soirée Pétanque
DESCRIPTION:\n
URL:http://www.letrognon.com/bienvillers/event/fete-communale-2018-soiree-petanque/
CATEGORIES:Mairie
ORGANIZER;CN="Mairie%20de%20Bienvillers%20au%20Bois":MAILTO:mairie@bienvillers.org
END:VEVENT
END:VCALENDAR