BEGIN:VCALENDAR
VERSION:2.0
PRODID:-// - ECPv4.6.16//NONSGML v1.0//EN
CALSCALE:GREGORIAN
METHOD:PUBLISH
X-ORIGINAL-URL:http://www.letrognon.com/bienvillers
X-WR-CALDESC:Events for 
BEGIN:VEVENT
DTSTART;TZID=Europe/Paris:20180714T190000
DTEND;TZID=Europe/Paris:20180714T235500
DTSTAMP:20260422T045324
CREATED:20180512T075459Z
LAST-MODIFIED:20180512T075459Z
UID:2113-1531594800-1531612500@www.letrognon.com
SUMMARY:Fête Communale 2018 - Restauration
DESCRIPTION:\n
URL:http://www.letrognon.com/bienvillers/event/fete-communale-2018-restauration/
LOCATION:3 rue de Pommier\, BIENVILLERS AU BOIS\, 62 111
CATEGORIES:Mairie
ORGANIZER;CN="Mairie%20de%20Bienvillers%20au%20Bois":MAILTO:mairie@bienvillers.org
END:VEVENT
END:VCALENDAR