BEGIN:VCALENDAR
VERSION:2.0
PRODID:-// - ECPv4.6.16//NONSGML v1.0//EN
CALSCALE:GREGORIAN
METHOD:PUBLISH
X-ORIGINAL-URL:http://www.letrognon.com/bienvillers
X-WR-CALDESC:Events for 
BEGIN:VEVENT
DTSTART;VALUE=DATE:20180715
DTEND;VALUE=DATE:20180716
DTSTAMP:20260422T053517
CREATED:20180518T065712Z
LAST-MODIFIED:20180518T065712Z
UID:2160-1531612800-1531699199@www.letrognon.com
SUMMARY:Fête communale 2018 - 6ème balade de solex et mobylette
DESCRIPTION:\n
URL:http://www.letrognon.com/bienvillers/event/fete-communale-2018-6eme-balade-de-solex-et-mobylette/
CATEGORIES:Mairie
END:VEVENT
END:VCALENDAR