BEGIN:VCALENDAR
VERSION:2.0
PRODID:-// - ECPv4.6.16//NONSGML v1.0//EN
CALSCALE:GREGORIAN
METHOD:PUBLISH
X-ORIGINAL-URL:http://www.letrognon.com/bienvillers
X-WR-CALDESC:Events for 
BEGIN:VEVENT
DTSTART;VALUE=DATE:20180713
DTEND;VALUE=DATE:20180717
DTSTAMP:20260421T231249
CREATED:20180505T064327Z
LAST-MODIFIED:20180505T064327Z
UID:2075-1531440000-1531785599@www.letrognon.com
SUMMARY:Fête communale 2018
DESCRIPTION:La fête communale de Bienvillers au Bois a lieu du 13 juillet au 16 juillet 2018. \n
URL:http://www.letrognon.com/bienvillers/event/fete-communale-2018-2/
LOCATION:Place du 8 mai 1945\, BIENVILLERS AU BOIS\, 62 111
CATEGORIES:Mairie
ORGANIZER;CN="Mairie%20de%20Bienvillers%20au%20Bois":MAILTO:mairie@bienvillers.org
END:VEVENT
END:VCALENDAR