BEGIN:VCALENDAR
VERSION:2.0
PRODID:-// - ECPv4.6.16//NONSGML v1.0//EN
CALSCALE:GREGORIAN
METHOD:PUBLISH
X-ORIGINAL-URL:http://www.letrognon.com/bienvillers
X-WR-CALDESC:Events for 
BEGIN:VEVENT
DTSTART;VALUE=DATE:20170217
DTEND;VALUE=DATE:20170218
DTSTAMP:20260422T110252
CREATED:20170213T125449Z
LAST-MODIFIED:20170213T125449Z
UID:661-1487289600-1487375999@www.letrognon.com
SUMMARY:Fermeture du Secrétariat et de l'Agence Postale Communale
DESCRIPTION:En raison des congés d’hiver\, le Secrétariat de Mairie et l’Agence Postale Communale seront fermés le vendredi 17 février 2017. Pendant cette période\, pour vos opérations veuillez vous rapprocher du bureau de Beaumetz-les-Loges (9h -12h / 14h – 17h) ou du bureau de Foncquevillers (9h – 12h / Fermé le lundi). \nAttention : levée du courrier à 9h (14h sur Beaumetz-les-Loges). \nPour toute demande urgente en Mairie au 03 21 07 65 53 ! \n
URL:http://www.letrognon.com/bienvillers/event/fermeture-secretariat-agence-postale-communale/
END:VEVENT
END:VCALENDAR