BEGIN:VCALENDAR
VERSION:2.0
PRODID:-// - ECPv4.6.16//NONSGML v1.0//EN
CALSCALE:GREGORIAN
METHOD:PUBLISH
X-ORIGINAL-URL:http://www.letrognon.com/bienvillers
X-WR-CALDESC:Events for 
BEGIN:VEVENT
DTSTART;TZID=Europe/Paris:20171129T083000
DTEND;TZID=Europe/Paris:20171129T180000
DTSTAMP:20260422T085140
CREATED:20171121T090910Z
LAST-MODIFIED:20171121T090910Z
UID:1613-1511944200-1511978400@www.letrognon.com
SUMMARY:Fermeture du Secrétariat de Mairie et de l'Agence Postale Communale
DESCRIPTION:EN RAISON DES CONGES DE FIN D’ANNEE\, LE SECRETARIAT DE MAIRIE\nET L’AGENCE POSTALE COMMUNALE SERONT FERMES LE MERCREDI 29 NOVEMBRE 2017. \nPENDANT CETTE PERIODE\, POUR VOS OPERATIONS POSTALES\, VEUILLEZ VOUS RAPPROCHER DU BUREAU DE BEAUMETZ LES LOGES DE 9H-12H / 14H-17H OU DU BUREAU DE FONCQUEVILLERS DE 9H A 12H (FERME LE LUNDI) \nATTENTION : LEVEE DU  COURRIER A 9H00 \n POUR TOUTE DEMANDE URGENTE EN MAIRIE\, VEUILLEZ TELEPHONER AU 03 21 07 65 53. \n
URL:http://www.letrognon.com/bienvillers/event/fermeture-du-secretariat-de-mairie-et-de-lagence-postale-communale-3/
CATEGORIES:Mairie
END:VEVENT
END:VCALENDAR