BEGIN:VCALENDAR
VERSION:2.0
PRODID:-// - ECPv4.6.16//NONSGML v1.0//EN
CALSCALE:GREGORIAN
METHOD:PUBLISH
X-ORIGINAL-URL:http://www.letrognon.com/bienvillers
X-WR-CALDESC:Events for 
BEGIN:VEVENT
DTSTART;TZID=Europe/Paris:20170628T083000
DTEND;TZID=Europe/Paris:20170628T120000
DTSTAMP:20260421T213718
CREATED:20170616T134844Z
LAST-MODIFIED:20170616T134844Z
UID:1124-1498638600-1498651200@www.letrognon.com
SUMMARY:Fermeture du Secrétariat de Mairie et de l'Agence Postale Communale
DESCRIPTION:Le Secrétariat de Mairie et l’Agence Postale Communale seront fermés le mercredi 28 juin 2017 au matin. Pendant cette période\, pour vos opérations veuillez vous rapprocher du bureau de Beaumetz-les-Loges (9h -12h / 14h – 17h) ou du bureau de Foncquevillers (9h – 12h / Fermé le lundi). \nAttention : levée du courrier à 9h (14h sur Beaumetz-les-Loges). \nPour toute demande urgente en Mairie au 03 21 07 65 53 ! \n
URL:http://www.letrognon.com/bienvillers/event/fermeture-du-secretariat-de-mairie-et-de-lagence-postale-communale-2/
CATEGORIES:Mairie
END:VEVENT
END:VCALENDAR