BEGIN:VCALENDAR
VERSION:2.0
PRODID:-// - ECPv4.6.16//NONSGML v1.0//EN
CALSCALE:GREGORIAN
METHOD:PUBLISH
X-ORIGINAL-URL:http://www.letrognon.com/bienvillers
X-WR-CALDESC:Events for 
BEGIN:VEVENT
DTSTART;VALUE=DATE:20181102
DTEND;VALUE=DATE:20181103
DTSTAMP:20260422T002626
CREATED:20181006T093929Z
LAST-MODIFIED:20181006T093930Z
UID:2551-1541116800-1541203199@www.letrognon.com
SUMMARY:FERMETURE DES BUREAUX
DESCRIPTION:LE SECRETARIAT DE MAIRIE  ET L’AGENCE POSTALE COMMUNALE SERONT FERMES LE VENDREDI 2 NOVEMBRE 2018.  POUR VOS OPERATIONS POSTALES\, VEUILLEZ VOUS RAPPROCHER DU BUREAU DE BEAUMETZ LES LOGES DE 9H-12H / 14H-17H. ATTENTION : LEVEE DU  COURRIER A 9H00 ! \nPOUR TOUTE DEMANDE URGENTE EN MAIRIE\, VEUILLEZ TELEPHONER AU 03 21 07 65 53. \n
URL:http://www.letrognon.com/bienvillers/event/fermeture-des-bureaux-9/
CATEGORIES:Mairie
END:VEVENT
END:VCALENDAR