BEGIN:VCALENDAR
VERSION:2.0
PRODID:-// - ECPv4.6.16//NONSGML v1.0//EN
CALSCALE:GREGORIAN
METHOD:PUBLISH
X-ORIGINAL-URL:http://www.letrognon.com/bienvillers
X-WR-CALDESC:Events for 
BEGIN:VEVENT
DTSTART;TZID=Europe/Paris:20180515T103000
DTEND;TZID=Europe/Paris:20180515T120000
DTSTAMP:20260421T213247
CREATED:20180505T062606Z
LAST-MODIFIED:20180505T062606Z
UID:2066-1526380200-1526385600@www.letrognon.com
SUMMARY:Fermeture des bureaux
DESCRIPTION:Les bureaux seront fermés exceptionnellement ce mardi 15 mai 2018 de 10h30 à 12h00. \n
URL:http://www.letrognon.com/bienvillers/event/fermeture-des-bureaux-5/
CATEGORIES:Mairie
END:VEVENT
END:VCALENDAR