BEGIN:VCALENDAR
VERSION:2.0
PRODID:-// - ECPv4.6.16//NONSGML v1.0//EN
CALSCALE:GREGORIAN
METHOD:PUBLISH
X-ORIGINAL-URL:http://www.letrognon.com/bienvillers
X-WR-CALDESC:Events for 
BEGIN:VEVENT
DTSTART;TZID=Europe/Paris:20180430T080000
DTEND;TZID=Europe/Paris:20180430T170000
DTSTAMP:20260422T022025
CREATED:20180414T073941Z
LAST-MODIFIED:20180414T081917Z
UID:1993-1525075200-1525107600@www.letrognon.com
SUMMARY:Fermeture des bureaux
DESCRIPTION:Le Secrétariat de Mairie et l’Agence Postale Communale seront fermés le lundi 30 avril 2018. \nPendant cette période\, pour vos opérations\, veuillez vous rapprocher du bureau de Beaumetz les Loges 9h – 12h / 14h – 17h. \nPour toute demande urgente en Mairie\, veuillez téléphoner au 03 21 07 65 53 \n
URL:http://www.letrognon.com/bienvillers/event/fermeture-des-bureaux-4/
CATEGORIES:Mairie
END:VEVENT
END:VCALENDAR