BEGIN:VCALENDAR
VERSION:2.0
PRODID:-// - ECPv4.6.16//NONSGML v1.0//EN
CALSCALE:GREGORIAN
METHOD:PUBLISH
X-ORIGINAL-URL:http://www.letrognon.com/bienvillers
X-WR-CALDESC:Events for 
BEGIN:VEVENT
DTSTART;TZID=Europe/Paris:20190917T083000
DTEND;TZID=Europe/Paris:20190917T120000
DTSTAMP:20260421T060140
CREATED:20190916T074431Z
LAST-MODIFIED:20190916T074431Z
UID:3577-1568709000-1568721600@www.letrognon.com
SUMMARY:Fermeture des bureaux
DESCRIPTION:LE SECRETARIAT DE MAIRIE ET L’AGENCE POSTALE COMMUNALE\nSERONT FERMES EXCEPTIONNELLEMENT CE MARDI 17 SEPTEMBRE 2019. \nPENDANT CETTE PERIODE\, POUR VOS OPERATIONS POSTALES\, VEUILLEZ VOUS RAPPROCHER DU BUREAU DE BEAUMETZ LES LOGES DE 9H-12H. \nATTENTION : LEVEE DU  COURRIER A 9H00 \nPOUR TOUTE DEMANDE URGENTE EN MAIRIE\, VEUILLEZ TELEPHONER AU 03 21 07 65 53. \n
URL:http://www.letrognon.com/bienvillers/event/fermeture-des-bureaux-21/
CATEGORIES:Mairie
END:VEVENT
END:VCALENDAR