BEGIN:VCALENDAR
VERSION:2.0
PRODID:-// - ECPv4.6.16//NONSGML v1.0//EN
CALSCALE:GREGORIAN
METHOD:PUBLISH
X-ORIGINAL-URL:http://www.letrognon.com/bienvillers
X-WR-CALDESC:Events for 
BEGIN:VEVENT
DTSTART;VALUE=DATE:20190827
DTEND;VALUE=DATE:20190828
DTSTAMP:20260421T060344
CREATED:20190802T073319Z
LAST-MODIFIED:20190802T073513Z
UID:3457-1566864000-1566950399@www.letrognon.com
SUMMARY:Fermeture des bureaux
DESCRIPTION:Le Secrétariat de Mairie et l’Agence Postale Communale seront fermés le mardi 27 août 2019 ! \n
URL:http://www.letrognon.com/bienvillers/event/fermeture-des-bureaux-20/
CATEGORIES:Mairie
END:VEVENT
END:VCALENDAR