BEGIN:VCALENDAR
VERSION:2.0
PRODID:-// - ECPv4.6.16//NONSGML v1.0//EN
CALSCALE:GREGORIAN
METHOD:PUBLISH
X-ORIGINAL-URL:http://www.letrognon.com/bienvillers
X-WR-CALDESC:Events for 
BEGIN:VEVENT
DTSTART;VALUE=DATE:20190805
DTEND;VALUE=DATE:20190814
DTSTAMP:20260421T074158
CREATED:20190717T070541Z
LAST-MODIFIED:20190717T070541Z
UID:3447-1564963200-1565740799@www.letrognon.com
SUMMARY:Fermeture des bureaux
DESCRIPTION:Le Secrétariat de Mairie et l’Agence Postale Communale seront fermés du lundi 5 août au mardi 13 août 2019 ! \n\n
URL:http://www.letrognon.com/bienvillers/event/fermeture-des-bureaux-19/
CATEGORIES:Mairie
END:VEVENT
END:VCALENDAR