BEGIN:VCALENDAR
VERSION:2.0
PRODID:-// - ECPv4.6.16//NONSGML v1.0//EN
CALSCALE:GREGORIAN
METHOD:PUBLISH
X-ORIGINAL-URL:http://www.letrognon.com/bienvillers
X-WR-CALDESC:Events for 
BEGIN:VEVENT
DTSTART;VALUE=DATE:20181127
DTEND;VALUE=DATE:20181128
DTSTAMP:20260421T213142
CREATED:20181124T080333Z
LAST-MODIFIED:20181124T080333Z
UID:2794-1543276800-1543363199@www.letrognon.com
SUMMARY:Fermeture des bureaux
DESCRIPTION:LE SECRETARIAT DE MAIRIE ET L’AGENCE POSTALE COMMUNALE\nSERONT FERMES  EXCEPTIONNELLEMENT CE MARDI 27 NOVEMBRE 2018. \nPENDANT CETTE PERIODE\, POUR VOS OPERATIONS POSTALES\, VEUILLEZ VOUS RAPPROCHER DU BUREAU DE BEAUMETZ LES LOGES DE 9H-12H / 14H-17H. \nATTENTION : LEVEE DU  COURRIER A 9H00 \nPOUR TOUTE DEMANDE URGENTE EN MAIRIE\, VEUILLEZ TELEPHONER AU 03 21 07 65 53. \n
URL:http://www.letrognon.com/bienvillers/event/fermeture-des-bureaux-12/
CATEGORIES:Mairie
END:VEVENT
END:VCALENDAR