BEGIN:VCALENDAR
VERSION:2.0
PRODID:-// - ECPv4.6.16//NONSGML v1.0//EN
CALSCALE:GREGORIAN
METHOD:PUBLISH
X-ORIGINAL-URL:http://www.letrognon.com/bienvillers
X-WR-CALDESC:Events for 
BEGIN:VEVENT
DTSTART;TZID=Europe/Paris:20181029T140000
DTEND;TZID=Europe/Paris:20181029T183000
DTSTAMP:20260422T015049
CREATED:20181027T075955Z
LAST-MODIFIED:20181027T075955Z
UID:2649-1540821600-1540837800@www.letrognon.com
SUMMARY:Fermeture des bureaux
DESCRIPTION:LE SECRETARIAT DE MAIRIE ET L’AGENCE POSTALE COMMUNALE SERONT  EXCEPTIONNELLEMENT FERMES LE LUNDI 29 OCTOBRE 2018 APRES-MIDI. \nPENDANT CETTE PERIODE\, POUR VOS OPERATIONS POSTALES\, VEUILLEZ VOUS RAPPROCHER DU BUREAU DE BEAUMETZ LES LOGES DE 14H-17H. \n
URL:http://www.letrognon.com/bienvillers/event/fermeture-des-bureaux-10/
END:VEVENT
END:VCALENDAR