BEGIN:VCALENDAR
VERSION:2.0
PRODID:-// - ECPv4.6.16//NONSGML v1.0//EN
CALSCALE:GREGORIAN
METHOD:PUBLISH
X-ORIGINAL-URL:http://www.letrognon.com/bienvillers
X-WR-CALDESC:Events for 
BEGIN:VEVENT
DTSTART;TZID=Europe/Paris:20170701T100000
DTEND;TZID=Europe/Paris:20170701T120000
DTSTAMP:20260421T195015
CREATED:20170426T130701Z
LAST-MODIFIED:20170426T130701Z
UID:962-1498903200-1498910400@www.letrognon.com
SUMMARY:Exposition au "fil de l'eau"
DESCRIPTION:Samedi 1er juillet 2017 à l’école maternelle de Bienvillers-au-Bois de 10h à 12\, venez découvrir l’exposition artistique et pédagogique “au fil de l’eau” par les élèves et les enseignants de l’école. \n
URL:http://www.letrognon.com/bienvillers/event/exposition-fil-eau/
LOCATION:3 rue de Pommier\, BIENVILLERS AU BOIS\, 62 111
CATEGORIES:Scolaire
END:VEVENT
END:VCALENDAR