BEGIN:VCALENDAR
VERSION:2.0
PRODID:-// - ECPv4.6.16//NONSGML v1.0//EN
CALSCALE:GREGORIAN
METHOD:PUBLISH
X-ORIGINAL-URL:http://www.letrognon.com/bienvillers
X-WR-CALDESC:Events for 
BEGIN:VEVENT
DTSTART;TZID=Europe/Paris:20181209T143000
DTEND;TZID=Europe/Paris:20181209T183000
DTSTAMP:20260421T231242
CREATED:20181120T100126Z
LAST-MODIFIED:20181120T100126Z
UID:2774-1544365800-1544380200@www.letrognon.com
SUMMARY:Exposition de crèches
DESCRIPTION:Venez découvrir l’exposition de crèches\, à l’église de Bienvillers au Bois le 9 décembre 2018 ! \n\n
URL:http://www.letrognon.com/bienvillers/event/exposition-de-creches/
LOCATION:rue du Bois\, Bienvillers-au-Bois\, 62111\, France
CATEGORIES:Vie associative
END:VEVENT
END:VCALENDAR