BEGIN:VCALENDAR
VERSION:2.0
PRODID:-// - ECPv4.6.16//NONSGML v1.0//EN
CALSCALE:GREGORIAN
METHOD:PUBLISH
X-ORIGINAL-URL:http://www.letrognon.com/bienvillers
X-WR-CALDESC:Events for 
BEGIN:VEVENT
DTSTART;TZID=Europe/Paris:20181214T170000
DTEND;TZID=Europe/Paris:20181214T183000
DTSTAMP:20260422T021733
CREATED:20181120T100809Z
LAST-MODIFIED:20181120T100809Z
UID:2787-1544806800-1544812200@www.letrognon.com
SUMMARY:Exposition de crèches
DESCRIPTION:Venez découvrir l’exposition de crèches\, à l’église de Bienvillers au Bois le 14 décembre 2018 ! \n\n
URL:http://www.letrognon.com/bienvillers/event/exposition-de-creches-5/
LOCATION:rue du Bois\, Bienvillers-au-Bois\, 62111\, France
CATEGORIES:Vie associative
END:VEVENT
END:VCALENDAR