BEGIN:VCALENDAR
VERSION:2.0
PRODID:-// - ECPv4.6.16//NONSGML v1.0//EN
CALSCALE:GREGORIAN
METHOD:PUBLISH
X-ORIGINAL-URL:http://www.letrognon.com/bienvillers
X-WR-CALDESC:Events for 
BEGIN:VEVENT
DTSTART;VALUE=DATE:20220613
DTEND;VALUE=DATE:20220614
DTSTAMP:20260421T112955
CREATED:20220527T093912Z
LAST-MODIFIED:20220527T094157Z
UID:5940-1655078400-1655164799@www.letrognon.com
SUMMARY:Enquête publique assainissement
DESCRIPTION:L’arrêté fixant l’enquête publique d’assainissement sur le territoire de la Commune du 13 juin au 22 juillet 2022 est disponible ci-après !View Fullscreen  \n
URL:http://www.letrognon.com/bienvillers/event/enquete-public-assainissement/
END:VEVENT
END:VCALENDAR