BEGIN:VCALENDAR
VERSION:2.0
PRODID:-// - ECPv4.6.16//NONSGML v1.0//EN
CALSCALE:GREGORIAN
METHOD:PUBLISH
X-ORIGINAL-URL:http://www.letrognon.com/bienvillers
X-WR-CALDESC:Events for 
BEGIN:VEVENT
DTSTART;VALUE=DATE:20240914
DTEND;VALUE=DATE:20240915
DTSTAMP:20260424T072520
CREATED:20240817T074848Z
LAST-MODIFIED:20240817T074848Z
UID:8485-1726272000-1726358399@www.letrognon.com
SUMMARY:Ecole de musique de Bucquoy
DESCRIPTION:View Fullscreen \n
URL:http://www.letrognon.com/bienvillers/event/ecole-de-musique-de-bucquoy/
END:VEVENT
END:VCALENDAR