BEGIN:VCALENDAR
VERSION:2.0
PRODID:-// - ECPv4.6.16//NONSGML v1.0//EN
CALSCALE:GREGORIAN
METHOD:PUBLISH
X-ORIGINAL-URL:http://www.letrognon.com/bienvillers
X-WR-CALDESC:Events for 
BEGIN:VEVENT
DTSTART;TZID=Europe/Paris:20170623T150000
DTEND;TZID=Europe/Paris:20170623T190000
DTSTAMP:20260422T021725
CREATED:20170617T073847Z
LAST-MODIFIED:20170617T073847Z
UID:1136-1498230000-1498244400@www.letrognon.com
SUMMARY:Don du Sang
DESCRIPTION:\n
URL:http://www.letrognon.com/bienvillers/event/don-sang/
LOCATION:Place de la Mairie\, Berles-au-Bois\, 62123\, France
CATEGORIES:Citoyenneté,Vie associative
ATTACH;FMTTYPE=image/jpeg:http://www.letrognon.com/bienvillers/wp-content/uploads/2017/06/don-du-sang-berles-au-bois-logo.jpg
END:VEVENT
END:VCALENDAR