BEGIN:VCALENDAR
VERSION:2.0
PRODID:-// - ECPv4.6.16//NONSGML v1.0//EN
CALSCALE:GREGORIAN
METHOD:PUBLISH
X-ORIGINAL-URL:http://www.letrognon.com/bienvillers
X-WR-CALDESC:Events for 
BEGIN:VEVENT
DTSTART;TZID=Europe/Paris:20170311T143000
DTEND;TZID=Europe/Paris:20170311T190000
DTSTAMP:20260422T021735
CREATED:20170225T094320Z
LAST-MODIFIED:20170225T094320Z
UID:691-1489242600-1489258800@www.letrognon.com
SUMMARY:La Dictée Habarcquoise
DESCRIPTION:Venez participer à la Dictée Habarcquoise le Samedi 11 Mars 2017 …\n\n
URL:http://www.letrognon.com/bienvillers/event/dictee-habarcquoise/
LOCATION:HABARCQ\, Région des Hauts de France\, 62123\, France
CATEGORIES:Vie associative
END:VEVENT
END:VCALENDAR