BEGIN:VCALENDAR
VERSION:2.0
PRODID:-// - ECPv4.6.16//NONSGML v1.0//EN
CALSCALE:GREGORIAN
METHOD:PUBLISH
X-ORIGINAL-URL:http://www.letrognon.com/bienvillers
X-WR-CALDESC:Events for 
BEGIN:VEVENT
DTSTART;TZID=Europe/Paris:20221001T143000
DTEND;TZID=Europe/Paris:20221001T170000
DTSTAMP:20260422T174016
CREATED:20220905T074052Z
LAST-MODIFIED:20220905T074052Z
UID:6438-1664634600-1664643600@www.letrognon.com
SUMMARY:Dictée Habarcquoise
DESCRIPTION:\n
URL:http://www.letrognon.com/bienvillers/event/dictee-habarcquoise-2/
END:VEVENT
END:VCALENDAR