BEGIN:VCALENDAR
VERSION:2.0
PRODID:-// - ECPv4.6.16//NONSGML v1.0//EN
CALSCALE:GREGORIAN
METHOD:PUBLISH
X-ORIGINAL-URL:http://www.letrognon.com/bienvillers
X-WR-CALDESC:Events for 
BEGIN:VEVENT
DTSTART;TZID=Europe/Paris:20180511T140000
DTEND;TZID=Europe/Paris:20180511T170000
DTSTAMP:20260421T195752
CREATED:20171219T161938Z
LAST-MODIFIED:20171219T162024Z
UID:1721-1526047200-1526058000@www.letrognon.com
SUMMARY:Cross des élèves du RPI La Fontaine
DESCRIPTION:Le cross des élèves du RPI La Fontaine aura lieu le vendredi 11 mai 2018 de 14h à 17h au complexe sportif de Bienvillers au Bois. \n
URL:http://www.letrognon.com/bienvillers/event/cross-eleves-rpi-la-fontaine/
LOCATION:1 bis rue de la Louvière\, Bienvillers-au-Bois\, 62111
CATEGORIES:Scolaire,Sport
END:VEVENT
END:VCALENDAR