BEGIN:VCALENDAR
VERSION:2.0
PRODID:-// - ECPv4.6.16//NONSGML v1.0//EN
CALSCALE:GREGORIAN
METHOD:PUBLISH
X-ORIGINAL-URL:http://www.letrognon.com/bienvillers
X-WR-CALDESC:Events for 
BEGIN:VEVENT
DTSTART;TZID=Europe/Paris:20170518T140000
DTEND;TZID=Europe/Paris:20170518T170000
DTSTAMP:20260421T213556
CREATED:20170426T124956Z
LAST-MODIFIED:20170426T124956Z
UID:954-1495116000-1495126800@www.letrognon.com
SUMMARY:Cross du RPI La Fontaine
DESCRIPTION:Le Cross du RPI la Fontaine a lieu ce jeudi 18 mai 2017 au stade Bienvillers-au-Bois situé rue de la Louvière à partir de 14h. \n
URL:http://www.letrognon.com/bienvillers/event/cross-du-rpi-la-fontaine/
LOCATION:1 bis rue de la Louvière\, Bienvillers-au-Bois\, 62111
CATEGORIES:Scolaire
END:VEVENT
END:VCALENDAR